BEGIN:VCALENDAR
VERSION:2.0
PRODID:-//Events Hub - ECPv6.15.17.1//NONSGML v1.0//EN
CALSCALE:GREGORIAN
METHOD:PUBLISH
X-WR-CALNAME:Events Hub
X-ORIGINAL-URL:https://www.eventshub.uk
X-WR-CALDESC:Events for Events Hub
REFRESH-INTERVAL;VALUE=DURATION:PT1H
X-Robots-Tag:noindex
X-PUBLISHED-TTL:PT1H
BEGIN:VTIMEZONE
TZID:UTC
BEGIN:STANDARD
TZOFFSETFROM:+0000
TZOFFSETTO:+0000
TZNAME:UTC
DTSTART:20230101T000000
END:STANDARD
END:VTIMEZONE
BEGIN:VEVENT
DTSTART;TZID=UTC:20240309T130000
DTEND;TZID=UTC:20240309T160000
DTSTAMP:20260420T211100
CREATED:20240222T152808Z
LAST-MODIFIED:20240222T171713Z
UID:4127-1709989200-1710000000@www.eventshub.uk
SUMMARY:Shattering the Veil” Documentary Premiere
DESCRIPTION:🌟 Save the Date: March 9\, 2024\, Door open at 1:00 PM – Event start at 1:30PM 🌟 \n🎬 “Shattering the Veil” Documentary Premiere \nJoin us for an unforgettable afternoon as we unveil this groundbreaking film right here in the heart of London. \n🌍 About the Film:\nDive into the struggles and triumphs of women\, shedding light on broader human rights issues.\nThrough powerful storytelling\, we’ll explore untold stories\, resilience\, and transcendent hope. \n🗣️ Event Highlights:\n🗣️ Short Speech: Enlightening opening remarks.\n🗣️ Panel Discussion: Engage with esteemed panelists.\n🗣️ Networking: Connect with passionate change-makers. \n🌟 Be Part of the Movement 🌟 Don’t miss this incredible opportunity to create impact. Your presence and voice matter. \n📍 Venue: Hogg Lecture Theatre – Westminster University\n🌟 Date: March 9\, 2024\n🌟 Door open at 1:00 PM – Event start at 1:30PM \nSee you there! 🎉 \nTerms and Conditions: \n1.⁠ ⁠The registration fee is non-refundable.\n2.⁠ ⁠Pets are not allowed.\n3.⁠ ⁠Children below the age of 10 are not permitted.\n4.⁠ ⁠Antisocial behavior will not be tolerated and may result in removal from the premises.\n5.⁠ ⁠⁠Filming or photography is not permitted during the documentary screening.\n6.⁠ ⁠⁠Bringing or consuming foods containing nuts inside the venue is not permitted. \n\n\nLOCATION\nHogg Lecture Theatre\, Westminster University\, 35 Marylebone Rd\, London\, NW1 5LS
URL:https://www.eventshub.uk/event/shattering-the-veil-documentary-premiere/
LOCATION:Hogg Lecture Theatre\, Westminster University\,\, 35 Marylebone Rd\, London\, London\, NW1 5LS\, United Kingdom
CATEGORIES:Event Calendar
ATTACH;FMTTYPE=image/jpeg:https://www.eventshub.uk/wp-content/uploads/2024/02/IMAGE-2024-02-19-112211.jpg
END:VEVENT
END:VCALENDAR